BEGIN:VCALENDAR
VERSION:2.0
PRODID:-//ISD - ECPv6.15.20//NONSGML v1.0//EN
CALSCALE:GREGORIAN
METHOD:PUBLISH
X-WR-CALNAME:ISD
X-ORIGINAL-URL:https://isdonline.de
X-WR-CALDESC:Veranstaltungen für ISD
REFRESH-INTERVAL;VALUE=DURATION:PT1H
X-Robots-Tag:noindex
X-PUBLISHED-TTL:PT1H
BEGIN:VTIMEZONE
TZID:Europe/Berlin
BEGIN:DAYLIGHT
TZOFFSETFROM:+0100
TZOFFSETTO:+0200
TZNAME:CEST
DTSTART:20230326T010000
END:DAYLIGHT
BEGIN:STANDARD
TZOFFSETFROM:+0200
TZOFFSETTO:+0100
TZNAME:CET
DTSTART:20231029T010000
END:STANDARD
BEGIN:DAYLIGHT
TZOFFSETFROM:+0100
TZOFFSETTO:+0200
TZNAME:CEST
DTSTART:20240331T010000
END:DAYLIGHT
BEGIN:STANDARD
TZOFFSETFROM:+0200
TZOFFSETTO:+0100
TZNAME:CET
DTSTART:20241027T010000
END:STANDARD
BEGIN:DAYLIGHT
TZOFFSETFROM:+0100
TZOFFSETTO:+0200
TZNAME:CEST
DTSTART:20250330T010000
END:DAYLIGHT
BEGIN:STANDARD
TZOFFSETFROM:+0200
TZOFFSETTO:+0100
TZNAME:CET
DTSTART:20251026T010000
END:STANDARD
END:VTIMEZONE
BEGIN:VEVENT
DTSTART;TZID=Europe/Berlin:20240131T080000
DTEND;TZID=Europe/Berlin:20240131T170000
DTSTAMP:20260425T163423
CREATED:20240131T203313Z
LAST-MODIFIED:20240131T203313Z
UID:19403-1706688000-1706720400@isdonline.de
SUMMARY:BHM Frankfurt - "ISSA" Buchvorpremiere
DESCRIPTION:Sonntag\, 03.03.2024\, 18 Uhr \n“ISSA” Buchvorpremiere \nmit Mirianne Mahn und Friends \nin Das Herz von Frankfurt\, Braubachstraße 31\, 60311 Frankfurt \noffen für Schwarze\, afrikanische und afrodiasporische Menschen
URL:https://isdonline.de/event/bhm-frankfurt-issa-buchvorpremiere/
LOCATION:Das Herz von Frankfurt\, Braubachstraße 31\, Frankfurt am Main\, 60311
CATEGORIES:Black History Month,Safe*r Space
ORGANIZER;CN="ISD Frankfurt":MAILTO:isdfrankfurt@isdonline.de
END:VEVENT
END:VCALENDAR