BEGIN:VCALENDAR
VERSION:2.0
PRODID:-//ISD - ECPv6.15.20//NONSGML v1.0//EN
CALSCALE:GREGORIAN
METHOD:PUBLISH
X-WR-CALNAME:ISD
X-ORIGINAL-URL:https://isdonline.de
X-WR-CALDESC:Veranstaltungen für ISD
REFRESH-INTERVAL;VALUE=DURATION:PT1H
X-Robots-Tag:noindex
X-PUBLISHED-TTL:PT1H
BEGIN:VTIMEZONE
TZID:Europe/Berlin
BEGIN:DAYLIGHT
TZOFFSETFROM:+0100
TZOFFSETTO:+0200
TZNAME:CEST
DTSTART:20230326T010000
END:DAYLIGHT
BEGIN:STANDARD
TZOFFSETFROM:+0200
TZOFFSETTO:+0100
TZNAME:CET
DTSTART:20231029T010000
END:STANDARD
BEGIN:DAYLIGHT
TZOFFSETFROM:+0100
TZOFFSETTO:+0200
TZNAME:CEST
DTSTART:20240331T010000
END:DAYLIGHT
BEGIN:STANDARD
TZOFFSETFROM:+0200
TZOFFSETTO:+0100
TZNAME:CET
DTSTART:20241027T010000
END:STANDARD
BEGIN:DAYLIGHT
TZOFFSETFROM:+0100
TZOFFSETTO:+0200
TZNAME:CEST
DTSTART:20250330T010000
END:DAYLIGHT
BEGIN:STANDARD
TZOFFSETFROM:+0200
TZOFFSETTO:+0100
TZNAME:CET
DTSTART:20251026T010000
END:STANDARD
END:VTIMEZONE
BEGIN:VEVENT
DTSTART;TZID=Europe/Berlin:20240210T140000
DTEND;TZID=Europe/Berlin:20240210T140000
DTSTAMP:20260425T164655
CREATED:20240129T225742Z
LAST-MODIFIED:20240129T225742Z
UID:19299-1707573600-1707573600@isdonline.de
SUMMARY:Black History Month Berlin '24 - Solidarisiert euch!
DESCRIPTION:Ausstellungsführung und Gespräch – Solidarisiert euch! \nmit Anna Yeboah in der Villa Oppenheim
URL:https://isdonline.de/event/black-history-month-berlin-24-solidarisiert-euch/
LOCATION:Villa Oppenheim\, Schloßstraße 55\, Berlin\, 14059
CATEGORIES:Ausstellungsführung und Gespräch,Black History Month
ORGANIZER;CN="ISD Berlin":MAILTO:bhmberlin@isdonline.de
END:VEVENT
END:VCALENDAR