BEGIN:VCALENDAR
VERSION:2.0
PRODID:-//ISD - ECPv6.15.20//NONSGML v1.0//EN
CALSCALE:GREGORIAN
METHOD:PUBLISH
X-WR-CALNAME:ISD
X-ORIGINAL-URL:https://isdonline.de
X-WR-CALDESC:Veranstaltungen für ISD
REFRESH-INTERVAL;VALUE=DURATION:PT1H
X-Robots-Tag:noindex
X-PUBLISHED-TTL:PT1H
BEGIN:VTIMEZONE
TZID:Europe/Berlin
BEGIN:DAYLIGHT
TZOFFSETFROM:+0100
TZOFFSETTO:+0200
TZNAME:CEST
DTSTART:20230326T010000
END:DAYLIGHT
BEGIN:STANDARD
TZOFFSETFROM:+0200
TZOFFSETTO:+0100
TZNAME:CET
DTSTART:20231029T010000
END:STANDARD
BEGIN:DAYLIGHT
TZOFFSETFROM:+0100
TZOFFSETTO:+0200
TZNAME:CEST
DTSTART:20240331T010000
END:DAYLIGHT
BEGIN:STANDARD
TZOFFSETFROM:+0200
TZOFFSETTO:+0100
TZNAME:CET
DTSTART:20241027T010000
END:STANDARD
BEGIN:DAYLIGHT
TZOFFSETFROM:+0100
TZOFFSETTO:+0200
TZNAME:CEST
DTSTART:20250330T010000
END:DAYLIGHT
BEGIN:STANDARD
TZOFFSETFROM:+0200
TZOFFSETTO:+0100
TZNAME:CET
DTSTART:20251026T010000
END:STANDARD
END:VTIMEZONE
BEGIN:VEVENT
DTSTART;TZID=Europe/Berlin:20240217T100000
DTEND;TZID=Europe/Berlin:20240217T130000
DTSTAMP:20260425T170535
CREATED:20240131T200041Z
LAST-MODIFIED:20240131T201659Z
UID:19347-1708164000-1708174800@isdonline.de
SUMMARY:BHM Köln - Kinder-/Jugendprogramm: Schwarze Held:innen
DESCRIPTION:In diesem Workshop bringen wir Kindern und Jugendlichen auf künstlerische Art große Persönlichkeiten der Schwarzen Geschichte näher. Dazu nutzen wir die literarische Vielfalt der TWM Bibliothek und stellen ihnen die Figuren vor\, die sich auf verschiedensten Wegen für die Schwarze Freiheit stark gemacht haben. Davon inspiriert zeichnen sie\, durch erfahrene Künstler angeleitet\, eine Superheldenfigur zu der jeweiligen Person. Ziel ist es\, Kindern und Jugendlichen\, Schwarze Vorbilder zu präsentieren\, die außerhalb der Klischees\, wie z.B. Sport- oder Musikszene\, agiert haben. \nDatum: 17. Februar 2024 \nUhrzeit: 10.00 – 13.00 Uhr \nOrt: TWM Bibliothek\, Victoriastraße 6-8\, 50668 Köln \nPreis: Die Teilnahme ist kostenlos; Spenden sind willkommen \nAnmeldung: Voranmeldung per e-Mail an info@twm-bibliothek.de (ab Grundschulalter) \nVeranstaltet von: Theodor Wonja Michael Bibliothek\, Sonnenblumen Community Development Group e.V. und ISD Lokalgruppe Köln \nSafer Space* Veranstaltung \n  \nWenn nicht ausdrücklich angegeben\, sind alle Veranstaltungen für jeden Menschen zugänglich. \n  \n*Schwarze Menschen = gewählte Selbstbezeichnung\, die alle Menschen anspricht\, die selbst einen afrikanischen oder einen afro-diasporischen (z.B. afro-karibisch\, afro-amerikanisch\, afro-deutsch) Hintergrund haben. \n  \nDas Black History Month Köln Programm wird von der Stadt Köln – Amt für Integration und Vielfalt gefördert
URL:https://isdonline.de/event/bhm-koeln-kinder-jugendprogramm-schwarze-heldinnen/
LOCATION:TWM Bibliothek\, Victoriastraße 6-8\, Köln\, 50668
CATEGORIES:Black History Month,Safe*r Space,Workshop
ATTACH;FMTTYPE=image/png:https://isdonline.de/wp-content/uploads/2024/01/Instagram-_posting.png
ORGANIZER;CN="ISD K%C3%B6ln":MAILTO:isdkoeln@isdonline.de
END:VEVENT
BEGIN:VEVENT
DTSTART;TZID=Europe/Berlin:20240217T140000
DTEND;TZID=Europe/Berlin:20240217T170000
DTSTAMP:20260425T170535
CREATED:20240202T004509Z
LAST-MODIFIED:20240202T004759Z
UID:19436-1708178400-1708189200@isdonline.de
SUMMARY:BHM Leipzig - Do lt Together! Hair Workshop
DESCRIPTION:Do lt Together! Hair Workshop \n17.02.24 / 14:00-17:00 \nISD Bund (R.-Luxemburg-Str. 10) \nMax. 10 Personen\, Anm. bis zum 13.02. \nunter do.it.together.bhm@gmail.com \nFür Schwarze Menschen aller Gender und aller Alter. / Barrieren: DE und/oder EN \nLautsprache; französisch auf Anfrage per E-Mail ; 1. OG ohne Aufzug
URL:https://isdonline.de/event/bhm-leipzig-do-lt-together-hair-workshop/
LOCATION:ISD KomPAD Projektbüro – Leipzig\, Rosa-Luxemburg-Straße 10\, Leipzig\, 04103
CATEGORIES:Black History Month,Safe*r Space,Workshop
ATTACH;FMTTYPE=image/jpeg:https://isdonline.de/wp-content/uploads/2024/02/Bild.jpg
ORGANIZER;CN="ISD Leipzig":MAILTO:isdleipzig@isdonline.de
END:VEVENT
BEGIN:VEVENT
DTSTART;TZID=Europe/Berlin:20240217T180000
DTEND;TZID=Europe/Berlin:20240217T203000
DTSTAMP:20260425T170535
CREATED:20240131T202601Z
LAST-MODIFIED:20240131T202601Z
UID:19391-1708192800-1708201800@isdonline.de
SUMMARY:BHM Frankfurt - Blacksperation & Waist Beads Workshop
DESCRIPTION:Samstag 17.02.2024\, 18-21:30 Uhr  \nBlacksperation & Waist Beads Workshop  \nmit Maimouna \nim Eva Frauenzentrum\, Saalgasse 15\, 60311 Frankfurt am Main \nTeilnahmezahl begrenzt: maximal 10 Teilnehmende \nAnmeldung an Maimouna.jah@frankfurt-evangelisch.de \noffen für Schwarze\, afrikanische und afrodiasporische Menschen
URL:https://isdonline.de/event/bhm-frankfurt-blacksperation-waist-beads-workshop/
LOCATION:Eva Frauenzentrum\, Saalgasse 15\, Frankfurt am Main\, 60311
CATEGORIES:Black History Month,Workshop
ORGANIZER;CN="ISD Frankfurt":MAILTO:isdfrankfurt@isdonline.de
END:VEVENT
END:VCALENDAR