BEGIN:VCALENDAR
VERSION:2.0
PRODID:-//ISD - ECPv6.15.20//NONSGML v1.0//EN
CALSCALE:GREGORIAN
METHOD:PUBLISH
X-WR-CALNAME:ISD
X-ORIGINAL-URL:https://isdonline.de
X-WR-CALDESC:Veranstaltungen für ISD
REFRESH-INTERVAL;VALUE=DURATION:PT1H
X-Robots-Tag:noindex
X-PUBLISHED-TTL:PT1H
BEGIN:VTIMEZONE
TZID:Europe/Berlin
BEGIN:DAYLIGHT
TZOFFSETFROM:+0100
TZOFFSETTO:+0200
TZNAME:CEST
DTSTART:20230326T010000
END:DAYLIGHT
BEGIN:STANDARD
TZOFFSETFROM:+0200
TZOFFSETTO:+0100
TZNAME:CET
DTSTART:20231029T010000
END:STANDARD
BEGIN:DAYLIGHT
TZOFFSETFROM:+0100
TZOFFSETTO:+0200
TZNAME:CEST
DTSTART:20240331T010000
END:DAYLIGHT
BEGIN:STANDARD
TZOFFSETFROM:+0200
TZOFFSETTO:+0100
TZNAME:CET
DTSTART:20241027T010000
END:STANDARD
BEGIN:DAYLIGHT
TZOFFSETFROM:+0100
TZOFFSETTO:+0200
TZNAME:CEST
DTSTART:20250330T010000
END:DAYLIGHT
BEGIN:STANDARD
TZOFFSETFROM:+0200
TZOFFSETTO:+0100
TZNAME:CET
DTSTART:20251026T010000
END:STANDARD
END:VTIMEZONE
BEGIN:VEVENT
DTSTART;TZID=Europe/Berlin:20240222T183000
DTEND;TZID=Europe/Berlin:20240222T183000
DTSTAMP:20260425T163440
CREATED:20240131T200500Z
LAST-MODIFIED:20240131T201633Z
UID:19355-1708626600-1708626600@isdonline.de
SUMMARY:BHM Köln - Gespräch: Meet Natasha A. Kelly: Wie die US-amerikanische Geschichte den Schwarzen Feminismus in Deutschland beeinflusst hat
DESCRIPTION:Im Black History Month Schwarze Geschichte sichtbar machen \nZum Black History Month diskutieren wir Fragen von ethnischer Identität und Diskriminierungserfahrungen. \nIn den USA\, aber auch darüber hinaus\, ist er zu einer kulturellen Instanz geworden\, in Deutschland seit den 1990er Jahren. Wir setzen uns mit strukturellem Rassismus in beiden Staaten auseinander. \nWir freuen uns sehr\, dass an diesem besonderen Abend Professorin Dr. Natasha A. Kelly bei uns zu Gast ist. Die Wissenschaftlerin stellt ihr aktuelles Buch „Schwarz. Deutsch. Weiblich. Warum Feminismus mehr als Geschlechtergerechtigkeit fordern muss“ vor und erklärt die Notwendigkeit transatlantischer Wissenstransfers zum US-amerikanischen Einfluss auf Schwarze feministische Geschichte in Deutschland\, angefangen mit Mary Church Terrells Besuch auf der Internationalen Frauenkonferenz in Berlin 1904 bis in die Gegenwart. \nDie Volkshochschule Köln kooperiert mit dem AmerikaHaus NRW und der Friedrich Naumann Stiftung NRW. \nDatum: 22. Februar 2024 \nUhrzeit: 18.30 Uhr \nOrt: FORUM Volkshochschule im Museum am Neumarkt\, Cäcilienstr. 29-33\, 50667 Köln\, Altstadt-Süd \nPreis: Eintritt frei \nAnmeldung: Keine Anmeldung erforderlich \nVeranstaltet von: Volkshochschule Köln\, AmerikaHaus NRW\, Friedrich Naumann Stiftung NRW \nWenn nicht ausdrücklich angegeben\, sind alle Veranstaltungen für jeden Menschen zugänglich. \n  \n*Schwarze Menschen = gewählte Selbstbezeichnung\, die alle Menschen anspricht\, die selbst einen afrikanischen oder einen afro-diasporischen (z.B. afro-karibisch\, afro-amerikanisch\, afro-deutsch) Hintergrund haben. \n  \nDas Black History Month Köln Programm wird von der Stadt Köln – Amt für Integration und Vielfalt gefördert
URL:https://isdonline.de/event/bhm-koeln-gespraech-meet-natasha-a-kelly-wie-die-us-amerikanische-geschichte-den-schwarzen-feminismus-in-deutschland-beeinflusst-hat/
LOCATION:FORUM Volkshochschule im Museum am Neumarkt\, Cäcilienstr. 29-33\, Köln\, 50667
CATEGORIES:Black History Month,Gespräch
ORGANIZER;CN="ISD K%C3%B6ln":MAILTO:isdkoeln@isdonline.de
END:VEVENT
BEGIN:VEVENT
DTSTART;TZID=Europe/Berlin:20240222T190000
DTEND;TZID=Europe/Berlin:20240222T190000
DTSTAMP:20260425T163440
CREATED:20240129T231531Z
LAST-MODIFIED:20240129T231531Z
UID:19312-1708628400-1708628400@isdonline.de
SUMMARY:Black Lives in America - Kokomo City
DESCRIPTION:Donnerstag\, 22. Februar\, 19:00 Uhr \nKokomo City \nUSA 2023 | R: D. Smith | 73 Min. | ohne FSK | engl. OmeU }casa.jetzt/blacklives_kokomocity \ndanach Filmgespräch mit Vanessa Omoigui und Zoe Agbeadah (ISD Nürnberg) \nEin einfühlsames Porträt vier Schwarzer Trans-Frauen und der phänomenale Debütfilm einer erfolgreichen Musikproduzentin. \n\n\n\n___ \nBLACK LIVES IN AMERICA \nJordan Peeles Get Out ist ein zeitgenössischer Klassiker\, der den Zustand des „Sunken Place“ einführt – ein Gefangensein in vollem Bewusstsein\, aber ohne Handlungsfähigkeit. Analog dazu fühlen wir uns als Zuschauer:innen im Kino manchmal machtlos\, wenn wir die Protagonist:innen\, mit denen wir uns identifizieren\, leiden sehen. Diese Ohnmacht\, nicht aktiv in das Geschehen eingreifen zu können\, reflektiert die Erfahrung Schwarzer Menschen in der Filmwelt. Es ist eine Erfahrung des Unrechts\, das den Figuren zugefügt wird\, die „Schwarzsein“ repräsentieren sollen. \nViele afro-amerikanische Filmemacher:innen antworten auf diese Her- ausforderung indem sie Werke schaffen\, die nicht nur Bewusstsein für die Repräsentation von Schwarzen schaffen\, sondern auch die Grenzen dieser Darstellungen künstlerisch durchbrechen. Diese Filme sind eine Einladung\, sich mit der Vielfalt Schwarzer Erfahrungen auseinanderzusetzen und stereo- type Darstellungen hinter sich zu lassen. \nDie für diese Staffel ausgewählten Filme lassen uns in eine Schwarze Lebens- realität eintauchen und Stereotype überdenken. Wir freuen uns auf inspirie- rende Gespräche im Anschluss an die Vorführungen. \nAusführliche Filmbeschreibungen\, Trailer und die Möglichkeit zum Online- Ticketkauf finden Sie unter www.casa.jetzt/blacklives. \n___ \nFilmbeginn ist jeweils um 19:00 Uhr. Alle Filme werden in englischer Originalfassung mit deutschen bzw. englischen Untertiteln gezeigt. Die Filmgespräche finden in deutscher Sprache statt.\nEine Filmreihe in Kooperation mit der Initiative Schwarzer Menschen in Deutschland e.V. und\ndem Deutsch-Amerikanischen Institut Nürnberg. \nEintrittspreise: \nRegulär Ermäßigt U25 \n9\,50 € + ggf. 1\,00 € Überlänge (> 130 Min.) 7\,00 € + ggf. 1\,00 € Überlänge (> 130 Min.) 6\,00 € + ggf. 1\,00 € Überlänge (> 130 Min.) \nOnline-Tickets und Reservierung: \nwww.casa.jetzt/blacklives | reservierung@casablanca-nuernberg.de \nKontakt: \nCasablanca Filmkunsttheater | Brosamerstraße 12 | 90459 Nürnberg www.casablanca-nuernberg.de | @casanuernberg
URL:https://isdonline.de/event/black-lives-in-america-kokomo-city/
LOCATION:Casablanca Filmkunsttheater\, Brosamerstraße 12\, Nürnberg\, 90459\, Deutschland
ORGANIZER;CN="ISD N%C3%BCrnberg":MAILTO:isd.nuernberg.buero@isdonline.de
END:VEVENT
END:VCALENDAR