BEGIN:VCALENDAR
VERSION:2.0
PRODID:-//ISD - ECPv6.15.20//NONSGML v1.0//EN
CALSCALE:GREGORIAN
METHOD:PUBLISH
X-ORIGINAL-URL:https://isdonline.de
X-WR-CALDESC:Veranstaltungen für ISD
REFRESH-INTERVAL;VALUE=DURATION:PT1H
X-Robots-Tag:noindex
X-PUBLISHED-TTL:PT1H
BEGIN:VTIMEZONE
TZID:Europe/Berlin
BEGIN:DAYLIGHT
TZOFFSETFROM:+0100
TZOFFSETTO:+0200
TZNAME:CEST
DTSTART:20230326T010000
END:DAYLIGHT
BEGIN:STANDARD
TZOFFSETFROM:+0200
TZOFFSETTO:+0100
TZNAME:CET
DTSTART:20231029T010000
END:STANDARD
BEGIN:DAYLIGHT
TZOFFSETFROM:+0100
TZOFFSETTO:+0200
TZNAME:CEST
DTSTART:20240331T010000
END:DAYLIGHT
BEGIN:STANDARD
TZOFFSETFROM:+0200
TZOFFSETTO:+0100
TZNAME:CET
DTSTART:20241027T010000
END:STANDARD
BEGIN:DAYLIGHT
TZOFFSETFROM:+0100
TZOFFSETTO:+0200
TZNAME:CEST
DTSTART:20250330T010000
END:DAYLIGHT
BEGIN:STANDARD
TZOFFSETFROM:+0200
TZOFFSETTO:+0100
TZNAME:CET
DTSTART:20251026T010000
END:STANDARD
END:VTIMEZONE
BEGIN:VEVENT
DTSTART;TZID=Europe/Berlin:20240225T140000
DTEND;TZID=Europe/Berlin:20240225T160000
DTSTAMP:20260425T164539
CREATED:20240131T200926Z
LAST-MODIFIED:20240131T201459Z
UID:19363-1708869600-1708876800@isdonline.de
SUMMARY:BHM Köln - Lesung: Voices of Resistance
DESCRIPTION:In dieser BHM-Veranstaltung werden drei Gründungsmitglieder der TWM Bibliothek historische Texte zum Thema “Stimmen des Widerstands” aus dem afrikanischen Kontinent und seiner Diaspora (wie etwa Stokely Carmichael\, Angela Davis und Cheikh Anta Diop) präsentieren. \nDatum: 25. Februar 2024 \nUhrzeit: 14.00 – 16.00 Uhr \nOrt: TWM Bibliothek\, Victoriastr. 6-8\, 50668 Köln \nPreis: Teilnahme ist kostenlos; Spenden sind willkommen \nAnmeldung: Keine Anmeldung erforderlich \nVeranstaltet von: TWM Bibliothek und Sonnenblumen Community Development Group e.V. \nWenn nicht ausdrücklich angegeben\, sind alle Veranstaltungen für jeden Menschen zugänglich. \n  \n*Schwarze Menschen = gewählte Selbstbezeichnung\, die alle Menschen anspricht\, die selbst einen afrikanischen oder einen afro-diasporischen (z.B. afro-karibisch\, afro-amerikanisch\, afro-deutsch) Hintergrund haben. \n  \nDas Black History Month Köln Programm wird von der Stadt Köln – Amt für Integration und Vielfalt gefördert
URL:https://isdonline.de/event/bhm-koeln-lesung-voices-of-resistance/
LOCATION:TWM Bibliothek\, Victoriastraße 6-8\, Köln\, 50668
CATEGORIES:Black History Month,Lesung
ATTACH;FMTTYPE=image/png:https://isdonline.de/wp-content/uploads/2024/01/Instagram-_posting.png
ORGANIZER;CN="ISD K%C3%B6ln":MAILTO:isdkoeln@isdonline.de
END:VEVENT
BEGIN:VEVENT
DTSTART;TZID=Europe/Berlin:20240225T180000
DTEND;TZID=Europe/Berlin:20240225T180000
DTSTAMP:20260425T164539
CREATED:20240202T160028Z
LAST-MODIFIED:20240202T160028Z
UID:19466-1708884000-1708884000@isdonline.de
SUMMARY:BHM Hannover - Film und Gespräch: Neptune Frost
DESCRIPTION:25.02.2024 // 18:00 \nFilm und Gespräch: Neptune Frost \nFilm von Saul Williams und Anisia Uzeyman \n@ Pavillon Hannover \nIm Rahmen des Black Community Tages von Afropäa e.V.
URL:https://isdonline.de/event/bhm-hannover-film-und-gespraech-neptune-frost/
LOCATION:Pavillon Hannover\, Lister Meile 4\, Hannover\, 30161
CATEGORIES:Black History Month,Filmscreening,Gespräch
ATTACH;FMTTYPE=image/jpeg:https://isdonline.de/wp-content/uploads/2024/02/IMG-20240201-WA0013.jpg
ORGANIZER;CN="ISD Hannover":MAILTO:isdhannover@isdonline.de
END:VEVENT
END:VCALENDAR