BEGIN:VCALENDAR
VERSION:2.0
PRODID:-//ISD - ECPv6.15.20//NONSGML v1.0//EN
CALSCALE:GREGORIAN
METHOD:PUBLISH
X-ORIGINAL-URL:https://isdonline.de
X-WR-CALDESC:Veranstaltungen für ISD
REFRESH-INTERVAL;VALUE=DURATION:PT1H
X-Robots-Tag:noindex
X-PUBLISHED-TTL:PT1H
BEGIN:VTIMEZONE
TZID:Europe/Berlin
BEGIN:DAYLIGHT
TZOFFSETFROM:+0100
TZOFFSETTO:+0200
TZNAME:CEST
DTSTART:20240331T010000
END:DAYLIGHT
BEGIN:STANDARD
TZOFFSETFROM:+0200
TZOFFSETTO:+0100
TZNAME:CET
DTSTART:20241027T010000
END:STANDARD
BEGIN:DAYLIGHT
TZOFFSETFROM:+0100
TZOFFSETTO:+0200
TZNAME:CEST
DTSTART:20250330T010000
END:DAYLIGHT
BEGIN:STANDARD
TZOFFSETFROM:+0200
TZOFFSETTO:+0100
TZNAME:CET
DTSTART:20251026T010000
END:STANDARD
BEGIN:DAYLIGHT
TZOFFSETFROM:+0100
TZOFFSETTO:+0200
TZNAME:CEST
DTSTART:20260329T010000
END:DAYLIGHT
BEGIN:STANDARD
TZOFFSETFROM:+0200
TZOFFSETTO:+0100
TZNAME:CET
DTSTART:20261025T010000
END:STANDARD
END:VTIMEZONE
BEGIN:VEVENT
DTSTART;VALUE=DATE:20250213
DTEND;VALUE=DATE:20250306
DTSTAMP:20260421T132309
CREATED:20250204T140654Z
LAST-MODIFIED:20250204T141207Z
UID:21121-1739404800-1741219199@isdonline.de
SUMMARY:Black History Month in Nürnberg - Kinovorführungen mit anschließendem Filmgespräch
DESCRIPTION:Black History Month 2025 in Nürnberg –\nKinovorführungen mit anschließendem Filmgespräch\nDie Filmreihe “Black Lives Around the World” nimmt uns mit auf eine Reise durch Schwarze Lebensrealitäten weltweit. Die ausgewählten Filme stammen aus unterschiedlichen Ländern und kulturellen Kontexten und bieten vielfältige Perspektiven auf Schwarze Identitäten\, Widerstand und Community. \nOb in einem afrofuturistischen Ruanda\, einem Londoner Block\, einem US-amerikanischen Gefängnis oder einem französischen Vorort – die Filme zeigen\, wie Schwarze Menschen weltweit für Träume\, Rechte und Würde kämpfen. Sie beleuchten soziale Ungerechtigkeiten\, kulturellen Widerstand und die Suche nach Selbstbestimmung. \nDiese Filmreihe lädt uns ein\, Stereotype zu hinterfragen und uns mit der Vielfalt der Schwarzen Erfahrungen auseinanderzusetzen. Nach jeder Vorführung gibt es Raum für Gespräche und den Austausch über die präsentierten Themen. \nAusführliche Filmbeschreibungen\, Trailer und die Möglichkeit zum Online-Ticketkauf finden Sie unter www.casa.jetzt/blacklives
URL:https://isdonline.de/event/black-history-month-in-nuernberg-kinovorfuehrungen-mit-anschliessendem-filmgespraech/
LOCATION:Casablanca Filmkunsttheater\, Brosamerstraße 12\, Nürnberg\, 90459\, Deutschland
CATEGORIES:Black History Month,Filmabend und Kritisches Gespräch,Filmscreening,Filmscreening und Gespräch
ATTACH;FMTTYPE=image/jpeg:https://isdonline.de/wp-content/uploads/2025/02/7-1-scaled.jpg
ORGANIZER;CN="ISD N%C3%BCrnberg":MAILTO:isd.nuernberg.buero@isdonline.de
END:VEVENT
BEGIN:VEVENT
DTSTART;TZID=Europe/Berlin:20250215T180000
DTEND;TZID=Europe/Berlin:20250215T180000
DTSTAMP:20260421T132309
CREATED:20250204T133636Z
LAST-MODIFIED:20250204T133636Z
UID:21081-1739642400-1739642400@isdonline.de
SUMMARY:Talk: Black Community - von der Utopie zur Vision *
DESCRIPTION:
URL:https://isdonline.de/event/talk-black-community-von-der-utopie-zur-vision/
LOCATION:Afrotopia\, Biedermannpl. 19\, Hamburg\, Hamburg\, 22083\, Germany
CATEGORIES:Black History Month,Gespräch
ATTACH;FMTTYPE=image/png:https://isdonline.de/wp-content/uploads/2025/02/BMH-2025-LinkedIn-Post.png
END:VEVENT
BEGIN:VEVENT
DTSTART;TZID=Europe/Berlin:20250215T190000
DTEND;TZID=Europe/Berlin:20250215T230000
DTSTAMP:20260421T132309
CREATED:20250204T125748Z
LAST-MODIFIED:20250204T125748Z
UID:21038-1739646000-1739660400@isdonline.de
SUMMARY:Filmvorführung und Panel-Talk GOD SAID GIVE ‘EM DRUM MACHINES
DESCRIPTION:Black History Month 2025 Köln \nMit dem diesjährigen Motto: Black Future Month \nGSGEDM kurz für “GOD SAID GIVE ‘EM DRUM MACHINES “ ist die Geschichte hinter einem der größten Beiträge Detroits zur Weltkultur: Techno\, das von Schwarzen* Künstler*innen in den 1980er Jahren geschaffene Phänomen der elektronischen Musik. Techno\, das die Tanzmusik international veränderte und sich zu der milliardenschweren EDM-Industrie entwickelt hat. Wir erleben im Rahmen der Filmvorführung die noch immer aktiven Pionier*innen der ersten Stunde wie Blake Baxter\, Jeff Mills oder Juan Atkins\, ihre gemeinsame Geschichte und ihren prägenden Einfluss auf eine der wesentlichsten Jugendkulturen der letzten 30 Jahre. \nIm Anschluss an die Filmvorführung folgt ein Panel-Talk mit TIBA Movement e. V.\, das sich für die Repräsentation und Förderung von Black und Brown Künstler*innen in der elektrischen Musikbranche einsetzt. \nDas Programm des Black History Month in Köln findet in Kooperation mit unserem Amt für Integration und Vielfalt statt. Die Veranstaltung “GOD SAID GIVE ‘EM DRUM MACHINES” wird von TIBA Movement e. V. und dem Afrika Film Festival Köln in Kooperation mit der Regionalgruppe Köln der Initiative Schwarzer Menschen in Deutschland (ISD) angeboten.
URL:https://isdonline.de/event/filmvorfuehrung-und-panel-talk-god-said-give-em-drum-machines/
LOCATION:Filmforum NRW\, Museum Ludwig\, Bischofsgartenstr. 1\, Köln\, 50667
CATEGORIES:Black History Month,Filmscreening,Filmscreening und Gespräch
END:VEVENT
END:VCALENDAR